BEGIN:VCALENDAR
VERSION:2.0
PRODID:-//Performance Additives - ECPv6.15.15//NONSGML v1.0//EN
CALSCALE:GREGORIAN
METHOD:PUBLISH
X-ORIGINAL-URL:https://performanceadditives.us
X-WR-CALDESC:Events for Performance Additives
REFRESH-INTERVAL;VALUE=DURATION:PT1H
X-Robots-Tag:noindex
X-PUBLISHED-TTL:PT1H
BEGIN:VTIMEZONE
TZID:America/New_York
BEGIN:DAYLIGHT
TZOFFSETFROM:-0500
TZOFFSETTO:-0400
TZNAME:EDT
DTSTART:20240310T070000
END:DAYLIGHT
BEGIN:STANDARD
TZOFFSETFROM:-0400
TZOFFSETTO:-0500
TZNAME:EST
DTSTART:20241103T060000
END:STANDARD
BEGIN:DAYLIGHT
TZOFFSETFROM:-0500
TZOFFSETTO:-0400
TZNAME:EDT
DTSTART:20250309T070000
END:DAYLIGHT
BEGIN:STANDARD
TZOFFSETFROM:-0400
TZOFFSETTO:-0500
TZNAME:EST
DTSTART:20251102T060000
END:STANDARD
BEGIN:DAYLIGHT
TZOFFSETFROM:-0500
TZOFFSETTO:-0400
TZNAME:EDT
DTSTART:20260308T070000
END:DAYLIGHT
BEGIN:STANDARD
TZOFFSETFROM:-0400
TZOFFSETTO:-0500
TZNAME:EST
DTSTART:20261101T060000
END:STANDARD
END:VTIMEZONE
BEGIN:VEVENT
DTSTART;VALUE=DATE:20251112
DTEND;VALUE=DATE:20251114
DTSTAMP:20260419T153349
CREATED:20250827T174728Z
LAST-MODIFIED:20250827T174811Z
UID:3605-1762905600-1763078399@performanceadditives.us
SUMMARY:AMI Compounding World Expo 2025
DESCRIPTION:Visit Performance Additives at the 2025 AMI Compounding World Expo on November 12th and 13th. \n \nNovember 12 – November 13\, 2025\nAMI Compounding World Expo\nHuntington Convention Center of Cleveland\, OH \nVisit us at booth C814\n\n\nVisit Performance Additives at the AMI Compounding World Expo from Wednesday\, November 12 through Thursday\, November 13 at booth C814. Two days\, four expos\, limitless learning and connections The Compounding World Expo is a must-attend event for professionals in the North American compounding industry. \n\n\nRegister AMI Compounding World Expo 2025
URL:https://performanceadditives.us/calendar/ami-compounding-world-expo-2025/
LOCATION:Huntington Convention Center of Cleveland\, 300 Lakeside Ave E\, Cleveland\, OH\, 44113\, United States
END:VEVENT
END:VCALENDAR